BEGIN:VCALENDAR
VERSION:2.0
PRODID:-//Armonía Estelar - ECPv6.15.20//NONSGML v1.0//EN
CALSCALE:GREGORIAN
METHOD:PUBLISH
X-ORIGINAL-URL:https://armoniaestelar.es
X-WR-CALDESC:Eventos para Armonía Estelar
REFRESH-INTERVAL;VALUE=DURATION:PT1H
X-Robots-Tag:noindex
X-PUBLISHED-TTL:PT1H
BEGIN:VTIMEZONE
TZID:UTC
BEGIN:STANDARD
TZOFFSETFROM:+0000
TZOFFSETTO:+0000
TZNAME:UTC
DTSTART:20250101T000000
END:STANDARD
END:VTIMEZONE
BEGIN:VEVENT
DTSTART;VALUE=DATE:20261209
DTEND;VALUE=DATE:20261213
DTSTAMP:20260421T162928
CREATED:20250409T163344Z
LAST-MODIFIED:20260120T180709Z
UID:8671-1796774400-1797119999@armoniaestelar.es
SUMMARY:Luna Nueva del mes de Capricornio
DESCRIPTION:Desafiarnos a ver lo que nos pongan en frente como un niño.\nDesear tener flexibilidad mental.\nNuestra opción es dejar que Saturno nos enseñe con dolor  o presentarnos nosotros al aula con ganas de aprender.\nAceptar que lo único que va a ser constante es el cambio y esperar con gusto lo que viene.\nDesapegarnos de lo material y encontrar lo espiritual en la materia.\n\n9-10 de diciembre 2026 Rosh Jodesh Tevet (48 horas)
URL:https://armoniaestelar.es/evento/luna-nueva-del-mes-de-capricornio/
CATEGORIES:Cábala
ATTACH;FMTTYPE=image/jpeg:https://armoniaestelar.es/wp-content/uploads/2024/09/Luna-nueva-Capricornio.jpg
END:VEVENT
END:VCALENDAR