BEGIN:VCALENDAR
VERSION:2.0
PRODID:-//Armonía Estelar - ECPv6.15.20//NONSGML v1.0//EN
CALSCALE:GREGORIAN
METHOD:PUBLISH
X-WR-CALNAME:Armonía Estelar
X-ORIGINAL-URL:https://armoniaestelar.es
X-WR-CALDESC:Eventos para Armonía Estelar
REFRESH-INTERVAL;VALUE=DURATION:PT1H
X-Robots-Tag:noindex
X-PUBLISHED-TTL:PT1H
BEGIN:VTIMEZONE
TZID:UTC
BEGIN:STANDARD
TZOFFSETFROM:+0000
TZOFFSETTO:+0000
TZNAME:UTC
DTSTART:20250101T000000
END:STANDARD
END:VTIMEZONE
BEGIN:VEVENT
DTSTART;VALUE=DATE:20260812
DTEND;VALUE=DATE:20260815
DTSTAMP:20260421T092537
CREATED:20250409T155104Z
LAST-MODIFIED:20260120T181449Z
UID:8638-1786492800-1786751999@armoniaestelar.es
SUMMARY:Luna Nueva del mes de Virgo
DESCRIPTION:No funcionar en automático\, evaluar cada situación.\nRevisar todo el año anterior\, entenderlo y perdonarnos. Hacernos responsables para poder cambiar eso.\n¿Qué tengo que cambiar? Lo que me molesta del otro\, en mí.\n\nRosh Jodesh Elul 12–13 de agosto 2026 (48 horas)
URL:https://armoniaestelar.es/evento/luna-nueva-del-mes-de-virgo/
CATEGORIES:Cábala
ATTACH;FMTTYPE=image/jpeg:https://armoniaestelar.es/wp-content/uploads/2024/09/Luna-nueva-Virgo.jpg
END:VEVENT
END:VCALENDAR