BEGIN:VCALENDAR
VERSION:2.0
PRODID:-//Armonía Estelar - ECPv6.15.20//NONSGML v1.0//EN
CALSCALE:GREGORIAN
METHOD:PUBLISH
X-WR-CALNAME:Armonía Estelar
X-ORIGINAL-URL:https://armoniaestelar.es
X-WR-CALDESC:Eventos para Armonía Estelar
REFRESH-INTERVAL;VALUE=DURATION:PT1H
X-Robots-Tag:noindex
X-PUBLISHED-TTL:PT1H
BEGIN:VTIMEZONE
TZID:UTC
BEGIN:STANDARD
TZOFFSETFROM:+0000
TZOFFSETTO:+0000
TZNAME:UTC
DTSTART:20240101T000000
END:STANDARD
END:VTIMEZONE
BEGIN:VEVENT
DTSTART;VALUE=DATE:20250413
DTEND;VALUE=DATE:20250421
DTSTAMP:20260420T045038
CREATED:20250409T171206Z
LAST-MODIFIED:20250409T171328Z
UID:8688-1744502400-1745193599@armoniaestelar.es
SUMMARY:Pesaj - Luna Llena mes de Aries
DESCRIPTION:Día 15 del mes de Nisán. Luna Llena del mes de Nisán -Aries Pesaj se celebra durante 7 días. \nPESAJ – Seminario 1 – Teoría : Explicación teórica de PESAJ desde el conocimiento de la Kabalah. Seminario brindado por Javier Wolcoff en 2013. \n\nPESAJ – Seminario 2 – Práctica: Explicación de la parte práctica de PESAJ desde el conocimiento de la Kabalah. Seminario brindado por Javier Wolcoff en 2013.
URL:https://armoniaestelar.es/evento/pesaj-luna-llena-mes-de-aries/
CATEGORIES:Cábala
ATTACH;FMTTYPE=image/jpeg:https://armoniaestelar.es/wp-content/uploads/2025/04/Luna.jpg
END:VEVENT
END:VCALENDAR